BEGIN:VCALENDAR
VERSION:2.0
PRODID:-//Environmental Health Services - ECPv6.15.14//NONSGML v1.0//EN
CALSCALE:GREGORIAN
METHOD:PUBLISH
X-ORIGINAL-URL:https://ehs.sbcounty.gov
X-WR-CALDESC:Events for Environmental Health Services
REFRESH-INTERVAL;VALUE=DURATION:PT1H
X-Robots-Tag:noindex
X-PUBLISHED-TTL:PT1H
BEGIN:VTIMEZONE
TZID:UTC
BEGIN:STANDARD
TZOFFSETFROM:+0000
TZOFFSETTO:+0000
TZNAME:UTC
DTSTART:20220101T000000
END:STANDARD
END:VTIMEZONE
BEGIN:VEVENT
DTSTART;TZID=UTC:20230630T113000
DTEND;TZID=UTC:20230630T130000
DTSTAMP:20260425T155006
CREATED:20230705T211827Z
LAST-MODIFIED:20230705T211827Z
UID:10002669-1688124600-1688130000@ehs.sbcounty.gov
SUMMARY:Rialto Summer Meals
DESCRIPTION:Come visit our booth at the Rialto Branch Library to learn about Food Safety. For more information click on the link below\, \nhttps://kec.rialto.k12.ca.us/Page/1935
URL:https://ehs.sbcounty.gov/event/rialto-summer-meals-5/
LOCATION:Rialto Library\, 251 W 1st St\, Rialto\, CA\, 92376
END:VEVENT
BEGIN:VEVENT
DTSTART;TZID=UTC:20230614T113000
DTEND;TZID=UTC:20230614T130000
DTSTAMP:20260425T155006
CREATED:20230616T223455Z
LAST-MODIFIED:20230616T223455Z
UID:10003038-1686742200-1686747600@ehs.sbcounty.gov
SUMMARY:Rialto Summer Meals
DESCRIPTION:Come visit our booth at the Rialto Library to learn about our Mosquito and Vector Control Program. For more information click on the link below\, \nhttps://kec.rialto.k12.ca.us/Page/1935
URL:https://ehs.sbcounty.gov/event/rialto-summer-meals/
LOCATION:Rialto Library\, 251 W 1st St\, Rialto\, CA\, 92376
END:VEVENT
END:VCALENDAR