BEGIN:VCALENDAR
VERSION:2.0
PRODID:-//Environmental Health Services - ECPv6.15.14//NONSGML v1.0//EN
CALSCALE:GREGORIAN
METHOD:PUBLISH
X-ORIGINAL-URL:https://ehs.sbcounty.gov
X-WR-CALDESC:Events for Environmental Health Services
REFRESH-INTERVAL;VALUE=DURATION:PT1H
X-Robots-Tag:noindex
X-PUBLISHED-TTL:PT1H
BEGIN:VTIMEZONE
TZID:UTC
BEGIN:STANDARD
TZOFFSETFROM:+0000
TZOFFSETTO:+0000
TZNAME:UTC
DTSTART:20220101T000000
END:STANDARD
END:VTIMEZONE
BEGIN:VEVENT
DTSTART;TZID=UTC:20230714T113000
DTEND;TZID=UTC:20230714T130000
DTSTAMP:20260423T140308
CREATED:20230710T225541Z
LAST-MODIFIED:20230710T225541Z
UID:10002684-1689334200-1689339600@ehs.sbcounty.gov
SUMMARY:Rialto Summer Meals
DESCRIPTION:Come visit our booth at the Rialto City Park to learn about our Pool Safety. For more information\, click HERE.
URL:https://ehs.sbcounty.gov/event/rialto-summer-meals-9/
LOCATION:Rialto City Park\, 130 E San Bernardino Ave\, Rialto\, CA
END:VEVENT
BEGIN:VEVENT
DTSTART;TZID=UTC:20230628T113000
DTEND;TZID=UTC:20230628T130000
DTSTAMP:20260423T140308
CREATED:20230705T211838Z
LAST-MODIFIED:20230705T211838Z
UID:10002666-1687951800-1687957200@ehs.sbcounty.gov
SUMMARY:Rialto Summer Meals
DESCRIPTION:Come visit our booth at the Rialto City Park to learn about our Mosquito and Vector Control Program. For more information click on the link below\, \nhttps://kec.rialto.k12.ca.us/Page/1935
URL:https://ehs.sbcounty.gov/event/rialto-summer-meals-6/
LOCATION:Rialto City Park\, 130 E San Bernardino Ave\, Rialto\, CA
END:VEVENT
END:VCALENDAR