BEGIN:VCALENDAR
VERSION:2.0
PRODID:-//Environmental Health Services - ECPv6.15.14//NONSGML v1.0//EN
CALSCALE:GREGORIAN
METHOD:PUBLISH
X-ORIGINAL-URL:https://ehs.sbcounty.gov
X-WR-CALDESC:Events for Environmental Health Services
REFRESH-INTERVAL;VALUE=DURATION:PT1H
X-Robots-Tag:noindex
X-PUBLISHED-TTL:PT1H
BEGIN:VTIMEZONE
TZID:UTC
BEGIN:STANDARD
TZOFFSETFROM:+0000
TZOFFSETTO:+0000
TZNAME:UTC
DTSTART:20220101T000000
END:STANDARD
END:VTIMEZONE
BEGIN:VEVENT
DTSTART;TZID=UTC:20230812T100000
DTEND;TZID=UTC:20230812T140000
DTSTAMP:20260425T063747
CREATED:20230721T230816Z
LAST-MODIFIED:20230721T230816Z
UID:10003068-1691834400-1691848800@ehs.sbcounty.gov
SUMMARY:Fun & Safety Fair
DESCRIPTION:Come visit our booth at the Highland Mobile Home Estates to learn about our Mosquito and Vector Control Program. For more information\, click HERE.
URL:https://ehs.sbcounty.gov/event/fun-safety-fair/
LOCATION:Highland Mobile Home Estates\, 7717 Church Ave\, Highland\, CA\, 92346
END:VEVENT
END:VCALENDAR