BEGIN:VCALENDAR
VERSION:2.0
PRODID:-//Environmental Health Services - ECPv6.15.14//NONSGML v1.0//EN
CALSCALE:GREGORIAN
METHOD:PUBLISH
X-WR-CALNAME:Environmental Health Services
X-ORIGINAL-URL:https://ehs.sbcounty.gov
X-WR-CALDESC:Events for Environmental Health Services
REFRESH-INTERVAL;VALUE=DURATION:PT1H
X-Robots-Tag:noindex
X-PUBLISHED-TTL:PT1H
BEGIN:VTIMEZONE
TZID:UTC
BEGIN:STANDARD
TZOFFSETFROM:+0000
TZOFFSETTO:+0000
TZNAME:UTC
DTSTART:20220101T000000
END:STANDARD
END:VTIMEZONE
BEGIN:VEVENT
DTSTART;TZID=UTC:20230726T113000
DTEND;TZID=UTC:20230726T130000
DTSTAMP:20260423T075548
CREATED:20230710T222637Z
LAST-MODIFIED:20230710T222637Z
UID:10003059-1690371000-1690376400@ehs.sbcounty.gov
SUMMARY:Rialto Summer Meals
DESCRIPTION:Come visit our booth at the Frisbee Park to learn about Food Safety. For more information\, click HERE.
URL:https://ehs.sbcounty.gov/event/rialto-summer-meals-8/
LOCATION:Frisbie Park\, 1901 N Acacia Ave\, Rialto\, CA
END:VEVENT
BEGIN:VEVENT
DTSTART;TZID=UTC:20230712T113000
DTEND;TZID=UTC:20230712T130000
DTSTAMP:20260423T075548
CREATED:20230710T225632Z
LAST-MODIFIED:20230710T225632Z
UID:10002681-1689161400-1689166800@ehs.sbcounty.gov
SUMMARY:Rialto Summer Meals
DESCRIPTION:Come visit our booth at the Rialto Frisbee Park to learn about Pool Safety. For more information\, click HERE.
URL:https://ehs.sbcounty.gov/event/rialto-summer-meals-10/
LOCATION:Frisbie Park\, 1901 N Acacia Ave\, Rialto\, CA
END:VEVENT
BEGIN:VEVENT
DTSTART;TZID=UTC:20230621T113000
DTEND;TZID=UTC:20230621T130000
DTSTAMP:20260423T075548
CREATED:20230616T223553Z
LAST-MODIFIED:20230616T223553Z
UID:10003047-1687347000-1687352400@ehs.sbcounty.gov
SUMMARY:Rialto Summer Meals
DESCRIPTION:Come visit our booth at the Frisbie Park in Rialto to learn about our Mosquito and Vector Control Program. For more information click on the link below\, \n  \nhttps://kec.rialto.k12.ca.us/Page/1935
URL:https://ehs.sbcounty.gov/event/rialto-summer-meals-3/
LOCATION:Frisbie Park\, 1901 N Acacia Ave\, Rialto\, CA
END:VEVENT
BEGIN:VEVENT
DTSTART;TZID=UTC:20230609T101500
DTEND;TZID=UTC:20230609T123000
DTSTAMP:20260423T075548
CREATED:20230607T235502Z
LAST-MODIFIED:20230607T235704Z
UID:10003035-1686305700-1686313800@ehs.sbcounty.gov
SUMMARY:Summer Meals Kickoff BBQ
DESCRIPTION:Come visit our booth at the Frisbie Park in Rialto to learn about our Mosquito and Vector Control Program. For more information click on the link below\, https://kec.rialto.k12.ca.us/Page/1935
URL:https://ehs.sbcounty.gov/event/kickoff-bbq/
LOCATION:Frisbie Park\, 1901 N Acacia Ave\, Rialto\, CA
END:VEVENT
END:VCALENDAR