BEGIN:VCALENDAR
VERSION:2.0
PRODID:-//Environmental Health Services - ECPv6.15.14//NONSGML v1.0//EN
CALSCALE:GREGORIAN
METHOD:PUBLISH
X-WR-CALNAME:Environmental Health Services
X-ORIGINAL-URL:https://ehs.sbcounty.gov
X-WR-CALDESC:Events for Environmental Health Services
REFRESH-INTERVAL;VALUE=DURATION:PT1H
X-Robots-Tag:noindex
X-PUBLISHED-TTL:PT1H
BEGIN:VTIMEZONE
TZID:UTC
BEGIN:STANDARD
TZOFFSETFROM:+0000
TZOFFSETTO:+0000
TZNAME:UTC
DTSTART:20220101T000000
END:STANDARD
END:VTIMEZONE
BEGIN:VEVENT
DTSTART;TZID=UTC:20230707T101500
DTEND;TZID=UTC:20230707T123000
DTSTAMP:20260423T062012
CREATED:20230705T211753Z
LAST-MODIFIED:20230705T211753Z
UID:11929-1688724900-1688733000@ehs.sbcounty.gov
SUMMARY:Pump It Up BBQ
DESCRIPTION:Come visit our booth at the Joe Sampson Park in Rialto to learn about our Mosquito and Vector Control Program. For more information click on the link below\, \nhttps://kec.rialto.k12.ca.us/Page/1935
URL:https://ehs.sbcounty.gov/event/pump-it-up-bbq/
LOCATION:Joe Sampson Park\, 650 W Randall Ave\, Rialto\, CA
END:VEVENT
END:VCALENDAR